BEGIN:VCALENDAR
VERSION:2.0
PRODID:-//AI4Life - ECPv6.15.20//NONSGML v1.0//EN
CALSCALE:GREGORIAN
METHOD:PUBLISH
X-WR-CALNAME:AI4Life
X-ORIGINAL-URL:https://ai4life.eurobioimaging.eu
X-WR-CALDESC:Events for AI4Life
REFRESH-INTERVAL;VALUE=DURATION:PT1H
X-Robots-Tag:noindex
X-PUBLISHED-TTL:PT1H
BEGIN:VTIMEZONE
TZID:Europe/Paris
BEGIN:DAYLIGHT
TZOFFSETFROM:+0100
TZOFFSETTO:+0200
TZNAME:CEST
DTSTART:20210328T010000
END:DAYLIGHT
BEGIN:STANDARD
TZOFFSETFROM:+0200
TZOFFSETTO:+0100
TZNAME:CET
DTSTART:20211031T010000
END:STANDARD
BEGIN:DAYLIGHT
TZOFFSETFROM:+0100
TZOFFSETTO:+0200
TZNAME:CEST
DTSTART:20220327T010000
END:DAYLIGHT
BEGIN:STANDARD
TZOFFSETFROM:+0200
TZOFFSETTO:+0100
TZNAME:CET
DTSTART:20221030T010000
END:STANDARD
BEGIN:DAYLIGHT
TZOFFSETFROM:+0100
TZOFFSETTO:+0200
TZNAME:CEST
DTSTART:20230326T010000
END:DAYLIGHT
BEGIN:STANDARD
TZOFFSETFROM:+0200
TZOFFSETTO:+0100
TZNAME:CET
DTSTART:20231029T010000
END:STANDARD
BEGIN:DAYLIGHT
TZOFFSETFROM:+0100
TZOFFSETTO:+0200
TZNAME:CEST
DTSTART:20240331T010000
END:DAYLIGHT
BEGIN:STANDARD
TZOFFSETFROM:+0200
TZOFFSETTO:+0100
TZNAME:CET
DTSTART:20241027T010000
END:STANDARD
END:VTIMEZONE
BEGIN:VEVENT
DTSTART;VALUE=DATE:20230605
DTEND;VALUE=DATE:20230610
DTSTAMP:20260419T225337
CREATED:20230403T151547Z
LAST-MODIFIED:20230403T151616Z
UID:2763-1685923200-1686355199@ai4life.eurobioimaging.eu
SUMMARY:Hackathon: Web and Cloud Infrastructure for AI-Powered BioImage Analysis
DESCRIPTION:This AI4Life Hackathon focuses on advancing the core functionality and long-term sustainability of the BioImage Model Zoo and ecosystem. This 4-day event brings together a diverse group of scientists and developers from the project to work in teams to tackle key aspects of the AI4Life services.
URL:https://ai4life.eurobioimaging.eu/event/hackathon-web-and-cloud-infrastructure-for-ai-powered-bioimage-analysis/
LOCATION:Science for Life Laboratory\, Stockholm\, Sweden
END:VEVENT
BEGIN:VEVENT
DTSTART;VALUE=DATE:20230530
DTEND;VALUE=DATE:20230603
DTSTAMP:20260419T225337
CREATED:20230526T151511Z
LAST-MODIFIED:20230526T151657Z
UID:3014-1685404800-1685750399@ai4life.eurobioimaging.eu
SUMMARY:NEUBIAS Pasteur course on Bioimage Analysis
DESCRIPTION:This AI4Life Hackathon focuses on advancing the core functionality and long-term sustainability of the BioImage Model Zoo and ecosystem. This 4-day event brings together a diverse group of scientists and developers from the project to work in teams to tackle key aspects of the AI4Life services.
URL:https://ai4life.eurobioimaging.eu/event/neubias-pasteur-course-on-bioimage-analysis/
LOCATION:Institut Pasteur\, Paris\, France
END:VEVENT
BEGIN:VEVENT
DTSTART;VALUE=DATE:20230522
DTEND;VALUE=DATE:20230527
DTSTAMP:20260419T225337
CREATED:20230321T152533Z
LAST-MODIFIED:20231122T122008Z
UID:2659-1684713600-1685145599@ai4life.eurobioimaging.eu
SUMMARY:Microscopy data analysis: machine learning and the BioImage Archive (2023)
DESCRIPTION:This AI4Life Hackathon focuses on advancing the core functionality and long-term sustainability of the BioImage Model Zoo and ecosystem. This 4-day event brings together a diverse group of scientists and developers from the project to work in teams to tackle key aspects of the AI4Life services.
URL:https://ai4life.eurobioimaging.eu/event/microscopy-data-analysis-machine-learning-and-the-bioimage-archive/
LOCATION:Online
END:VEVENT
BEGIN:VEVENT
DTSTART;VALUE=DATE:20230514
DTEND;VALUE=DATE:20230518
DTSTAMP:20260419T225337
CREATED:20230526T152026Z
LAST-MODIFIED:20230526T152053Z
UID:3021-1684022400-1684367999@ai4life.eurobioimaging.eu
SUMMARY:JCS2023: Imaging Cell Dynamics
DESCRIPTION:This AI4Life Hackathon focuses on advancing the core functionality and long-term sustainability of the BioImage Model Zoo and ecosystem. This 4-day event brings together a diverse group of scientists and developers from the project to work in teams to tackle key aspects of the AI4Life services.
URL:https://ai4life.eurobioimaging.eu/event/jcs2023-imaging-cell-dynamics/
LOCATION:Pestana Palace Hotel\, Lisbon\, Portugal
END:VEVENT
BEGIN:VEVENT
DTSTART;VALUE=DATE:20230511
DTEND;VALUE=DATE:20230513
DTSTAMP:20260419T225337
CREATED:20230321T151534Z
LAST-MODIFIED:20230321T152528Z
UID:2650-1683763200-1683935999@ai4life.eurobioimaging.eu
SUMMARY:5th NEUBIAS Conference: Open Symposium
DESCRIPTION:This AI4Life Hackathon focuses on advancing the core functionality and long-term sustainability of the BioImage Model Zoo and ecosystem. This 4-day event brings together a diverse group of scientists and developers from the project to work in teams to tackle key aspects of the AI4Life services.
URL:https://ai4life.eurobioimaging.eu/event/5th-neubias-conference-open-symposium/
LOCATION:i3S – Instituto de Investigação e Inovação em Saúde da Universidade do Porto
END:VEVENT
BEGIN:VEVENT
DTSTART;VALUE=DATE:20230509
DTEND;VALUE=DATE:20230511
DTSTAMP:20260419T225337
CREATED:20230526T151217Z
LAST-MODIFIED:20230526T151230Z
UID:3005-1683590400-1683763199@ai4life.eurobioimaging.eu
SUMMARY:NEURAL Networks in Bioimage Analysis
DESCRIPTION:This AI4Life Hackathon focuses on advancing the core functionality and long-term sustainability of the BioImage Model Zoo and ecosystem. This 4-day event brings together a diverse group of scientists and developers from the project to work in teams to tackle key aspects of the AI4Life services.
URL:https://ai4life.eurobioimaging.eu/event/neural-networks-in-bioimage-analysis/
LOCATION:BIOCEV\, Průmyslová 595\, Vestec (near Prague)\, Czech Republic
END:VEVENT
BEGIN:VEVENT
DTSTART;VALUE=DATE:20230508
DTEND;VALUE=DATE:20230513
DTSTAMP:20260419T225337
CREATED:20230321T150522Z
LAST-MODIFIED:20230321T152348Z
UID:2625-1683504000-1683935999@ai4life.eurobioimaging.eu
SUMMARY:5th NEUBIAS Conference: Defragmentation Training School
DESCRIPTION:This AI4Life Hackathon focuses on advancing the core functionality and long-term sustainability of the BioImage Model Zoo and ecosystem. This 4-day event brings together a diverse group of scientists and developers from the project to work in teams to tackle key aspects of the AI4Life services.
URL:https://ai4life.eurobioimaging.eu/event/5th-neubias-conference-defragmentation-training-school/
LOCATION:i3S – Instituto de Investigação e Inovação em Saúde da Universidade do Porto
END:VEVENT
BEGIN:VEVENT
DTSTART;VALUE=DATE:20230419
DTEND;VALUE=DATE:20230421
DTSTAMP:20260419T225337
CREATED:20230413T165726Z
LAST-MODIFIED:20230413T165746Z
UID:2795-1681862400-1682035199@ai4life.eurobioimaging.eu
SUMMARY:BioImaging and the European Open Science Cloud
DESCRIPTION:This AI4Life Hackathon focuses on advancing the core functionality and long-term sustainability of the BioImage Model Zoo and ecosystem. This 4-day event brings together a diverse group of scientists and developers from the project to work in teams to tackle key aspects of the AI4Life services.
URL:https://ai4life.eurobioimaging.eu/event/bioimaging-and-the-european-open-science-cloud/
LOCATION:EMBL Heidelberg
END:VEVENT
BEGIN:VEVENT
DTSTART;VALUE=DATE:20230402
DTEND;VALUE=DATE:20230406
DTSTAMP:20260419T225337
CREATED:20230526T115132Z
LAST-MODIFIED:20230526T115132Z
UID:2969-1680393600-1680739199@ai4life.eurobioimaging.eu
SUMMARY:Focus on Microscopy 2023
DESCRIPTION:This AI4Life Hackathon focuses on advancing the core functionality and long-term sustainability of the BioImage Model Zoo and ecosystem. This 4-day event brings together a diverse group of scientists and developers from the project to work in teams to tackle key aspects of the AI4Life services.
URL:https://ai4life.eurobioimaging.eu/event/focus-on-microscopy-2023/
LOCATION:Centro de Congressos da Alfândega do Porto\, Rua Nova da Alfândega\, Edifício da Alfândega\, Porto\, Portugal\, Portugal
END:VEVENT
BEGIN:VEVENT
DTSTART;TZID=Europe/Paris:20230328T140000
DTEND;TZID=Europe/Paris:20230328T170000
DTSTAMP:20260419T225337
CREATED:20230321T134510Z
LAST-MODIFIED:20230321T134541Z
UID:2583-1680012000-1680022800@ai4life.eurobioimaging.eu
SUMMARY:Workshop: Euro-BioImaging’s Guide to FAIR bioimage data
DESCRIPTION:This AI4Life Hackathon focuses on advancing the core functionality and long-term sustainability of the BioImage Model Zoo and ecosystem. This 4-day event brings together a diverse group of scientists and developers from the project to work in teams to tackle key aspects of the AI4Life services.
URL:https://ai4life.eurobioimaging.eu/event/workshop-euro-bioimagings-guide-to-fair-bioimage-data/
LOCATION:Online
END:VEVENT
BEGIN:VEVENT
DTSTART;VALUE=DATE:20230206
DTEND;VALUE=DATE:20230211
DTSTAMP:20260419T225337
CREATED:20230321T155526Z
LAST-MODIFIED:20230321T155754Z
UID:2679-1675641600-1676073599@ai4life.eurobioimaging.eu
SUMMARY:Hackathon: Deep Learning in Java
DESCRIPTION:This AI4Life Hackathon focuses on advancing the core functionality and long-term sustainability of the BioImage Model Zoo and ecosystem. This 4-day event brings together a diverse group of scientists and developers from the project to work in teams to tackle key aspects of the AI4Life services.
URL:https://ai4life.eurobioimaging.eu/event/hackathon-deep-learning-in-java/
LOCATION:Human Technopole\, Milan\, Italy
END:VEVENT
BEGIN:VEVENT
DTSTART;VALUE=DATE:20230124
DTEND;VALUE=DATE:20230126
DTSTAMP:20260419T225337
CREATED:20230321T155110Z
LAST-MODIFIED:20230321T155417Z
UID:2671-1674518400-1674691199@ai4life.eurobioimaging.eu
SUMMARY:Workshop: Towards FAIR AI image data
DESCRIPTION:This AI4Life Hackathon focuses on advancing the core functionality and long-term sustainability of the BioImage Model Zoo and ecosystem. This 4-day event brings together a diverse group of scientists and developers from the project to work in teams to tackle key aspects of the AI4Life services.
URL:https://ai4life.eurobioimaging.eu/event/workshop-towards-fair-ai-image-data/
LOCATION:Online
END:VEVENT
BEGIN:VEVENT
DTSTART;VALUE=DATE:20221027
DTEND;VALUE=DATE:20221029
DTSTAMP:20260419T225337
CREATED:20230321T162005Z
LAST-MODIFIED:20230321T162749Z
UID:2704-1666828800-1667001599@ai4life.eurobioimaging.eu
SUMMARY:First AI4Life Hackathon
DESCRIPTION:This AI4Life Hackathon focuses on advancing the core functionality and long-term sustainability of the BioImage Model Zoo and ecosystem. This 4-day event brings together a diverse group of scientists and developers from the project to work in teams to tackle key aspects of the AI4Life services.
URL:https://ai4life.eurobioimaging.eu/event/first-ai4life-hackathon/
LOCATION:EMBL Heidelberg
END:VEVENT
BEGIN:VEVENT
DTSTART;VALUE=DATE:20221025
DTEND;VALUE=DATE:20221027
DTSTAMP:20260419T225337
CREATED:20230321T162350Z
LAST-MODIFIED:20230321T162746Z
UID:2713-1666656000-1666828799@ai4life.eurobioimaging.eu
SUMMARY:AI4Life Kick-off meeting
DESCRIPTION:This AI4Life Hackathon focuses on advancing the core functionality and long-term sustainability of the BioImage Model Zoo and ecosystem. This 4-day event brings together a diverse group of scientists and developers from the project to work in teams to tackle key aspects of the AI4Life services.
URL:https://ai4life.eurobioimaging.eu/event/ai4life-kick-off-meeting/
LOCATION:EMBL Heidelberg
END:VEVENT
END:VCALENDAR